Workbook

Sheet Léeme
B2: Plantilla para llevar tus clases particulares
B4: 1. Apunta a tus alumnos en la hoja «Alumnos» con su tarifa por hora.
B5: 2. Apunta cada clase en la hoja «Clases». El precio se calcula solo.
B6: 3. Marca «Pagado» cuando cobres. La hoja «Resumen» te dice quién te debe.
B8: Las celdas con fórmula (precio, resumen) se rellenan solas: no escribas encima.
B10: Cuando la hoja se te quede corta —avisos al alumno, reservas, cobros,
B11: varios grupos— eso ya no lo arregla un Excel: doyclase.com
B13: Plantilla gratuita de DoyClase. Úsala, cópiala y modifícala como quieras.

Sheet Alumnos
A1: Alumno | B1: Tarifa €/h | C1: Contacto | D1: Notas
A2: Ejemplo: Lucía Pérez | B2: 15 | C2: 600 000 000 | D2: 2º ESO, martes 17:00
A3: Ejemplo: Marcos Ruiz | B3: 18 | C3: marcos@ejemplo.com | D3: Bachillerato, refuerzo de física

Sheet Clases
A1: Fecha | B1: Alumno | C1: Duración (min) | D1: Precio | E1: Pagado | F1: Notas
C2: 60 | D2: =IF($B2="","",IFERROR(ROUND(VLOOKUP($B2,Alumnos!$A$2:$B$51,2,FALSE)*$C2/60,2),""))
D3: =IF($B3="","",IFERROR(ROUND(VLOOKUP($B3,Alumnos!$A$2:$B$51,2,FALSE)*$C3/60,2),""))
D4: =IF($B4="","",IFERROR(ROUND(VLOOKUP($B4,Alumnos!$A$2:$B$51,2,FALSE)*$C4/60,2),""))
D5: =IF($B5="","",IFERROR(ROUND(VLOOKUP($B5,Alumnos!$A$2:$B$51,2,FALSE)*$C5/60,2),""))
D6: =IF($B6="","",IFERROR(ROUND(VLOOKUP($B6,Alumnos!$A$2:$B$51,2,FALSE)*$C6/60,2),""))
D7: =IF($B7="","",IFERROR(ROUND(VLOOKUP($B7,Alumnos!$A$2:$B$51,2,FALSE)*$C7/60,2),""))
D8: =IF($B8="","",IFERROR(ROUND(VLOOKUP($B8,Alumnos!$A$2:$B$51,2,FALSE)*$C8/60,2),""))
D9: =IF($B9="","",IFERROR(ROUND(VLOOKUP($B9,Alumnos!$A$2:$B$51,2,FALSE)*$C9/60,2),""))
D10: =IF($B10="","",IFERROR(ROUND(VLOOKUP($B10,Alumnos!$A$2:$B$51,2,FALSE)*$C10/60,2),""))
D11: =IF($B11="","",IFERROR(ROUND(VLOOKUP($B11,Alumnos!$A$2:$B$51,2,FALSE)*$C11/60,2),""))
D12: =IF($B12="","",IFERROR(ROUND(VLOOKUP($B12,Alumnos!$A$2:$B$51,2,FALSE)*$C12/60,2),""))
D13: =IF($B13="","",IFERROR(ROUND(VLOOKUP($B13,Alumnos!$A$2:$B$51,2,FALSE)*$C13/60,2),""))
D14: =IF($B14="","",IFERROR(ROUND(VLOOKUP($B14,Alumnos!$A$2:$B$51,2,FALSE)*$C14/60,2),""))
... D501: =IF($B501="","",IFERROR(ROUND(VLOOKUP($B501,Alumnos!$A$2:$B$51,2,FALSE)*$C501/60,2),""))

Sheet Resumen
A1: Alumno | B1: Clases | C1: Horas | D1: Cobrado | E1: Te debe
A2: =IF(Alumnos!A2="","",Alumnos!A2) | B2: =IF($A2="","",COUNTIFS(Clases!$B$2:$B$501,$A2)) | C2: =IF($A2="","",SUMIFS(Clases!$C$2:$C$501,Clases!$B$2:$B$501,$A2)/60) | D2: =IF($A2="","",SUMIFS(Clases!$D$2:$D$501,Clases!$B$2:$B$501,$A2,Clases!$E$2:$E$501,"Sí")) | E2: =IF($A2="","",SUMIFS(Clases!$D$2:$D$501,Clases!$B$2:$B$501,$A2,Clases!$E$2:$E$501,"No"))
A3: =IF(Alumnos!A3="","",Alumnos!A3) | B3: =IF($A3="","",COUNTIFS(Clases!$B$2:$B$501,$A3)) | C3: =IF($A3="","",SUMIFS(Clases!$C$2:$C$501,Clases!$B$2:$B$501,$A3)/60) | D3: =IF($A3="","",SUMIFS(Clases!$D$2:$D$501,Clases!$B$2:$B$501,$A3,Clases!$E$2:$E$501,"Sí")) | E3: =IF($A3="","",SUMIFS(Clases!$D$2:$D$501,Clases!$B$2:$B$501,$A3,Clases!$E$2:$E$501,"No"))
A4: =IF(Alumnos!A4="","",Alumnos!A4) | B4: =IF($A4="","",COUNTIFS(Clases!$B$2:$B$501,$A4)) | C4: =IF($A4="","",SUMIFS(Clases!$C$2:$C$501,Clases!$B$2:$B$501,$A4)/60) | D4: =IF($A4="","",SUMIFS(Clases!$D$2:$D$501,Clases!$B$2:$B$501,$A4,Clases!$E$2:$E$501,"Sí")) | E4: =IF($A4="","",SUMIFS(Clases!$D$2:$D$501,Clases!$B$2:$B$501,$A4,Clases!$E$2:$E$501,"No"))
A5: =IF(Alumnos!A5="","",Alumnos!A5) | B5: =IF($A5="","",COUNTIFS(Clases!$B$2:$B$501,$A5)) | C5: =IF($A5="","",SUMIFS(Clases!$C$2:$C$501,Clases!$B$2:$B$501,$A5)/60) | D5: =IF($A5="","",SUMIFS(Clases!$D$2:$D$501,Clases!$B$2:$B$501,$A5,Clases!$E$2:$E$501,"Sí")) | E5: =IF($A5="","",SUMIFS(Clases!$D$2:$D$501,Clases!$B$2:$B$501,$A5,Clases!$E$2:$E$501,"No"))
A6: =IF(Alumnos!A6="","",Alumnos!A6) | B6: =IF($A6="","",COUNTIFS(Clases!$B$2:$B$501,$A6)) | C6: =IF($A6="","",SUMIFS(Clases!$C$2:$C$501,Clases!$B$2:$B$501,$A6)/60) | D6: =IF($A6="","",SUMIFS(Clases!$D$2:$D$501,Clases!$B$2:$B$501,$A6,Clases!$E$2:$E$501,"Sí")) | E6: =IF($A6="","",SUMIFS(Clases!$D$2:$D$501,Clases!$B$2:$B$501,$A6,Clases!$E$2:$E$501,"No"))
A7: =IF(Alumnos!A7="","",Alumnos!A7) | B7: =IF($A7="","",COUNTIFS(Clases!$B$2:$B$501,$A7)) | C7: =IF($A7="","",SUMIFS(Clases!$C$2:$C$501,Clases!$B$2:$B$501,$A7)/60) | D7: =IF($A7="","",SUMIFS(Clases!$D$2:$D$501,Clases!$B$2:$B$501,$A7,Clases!$E$2:$E$501,"Sí")) | E7: =IF($A7="","",SUMIFS(Clases!$D$2:$D$501,Clases!$B$2:$B$501,$A7,Clases!$E$2:$E$501,"No"))
A8: =IF(Alumnos!A8="","",Alumnos!A8) | B8: =IF($A8="","",COUNTIFS(Clases!$B$2:$B$501,$A8)) | C8: =IF($A8="","",SUMIFS(Clases!$C$2:$C$501,Clases!$B$2:$B$501,$A8)/60) | D8: =IF($A8="","",SUMIFS(Clases!$D$2:$D$501,Clases!$B$2:$B$501,$A8,Clases!$E$2:$E$501,"Sí")) | E8: =IF($A8="","",SUMIFS(Clases!$D$2:$D$501,Clases!$B$2:$B$501,$A8,Clases!$E$2:$E$501,"No"))
A9: =IF(Alumnos!A9="","",Alumnos!A9) | B9: =IF($A9="","",COUNTIFS(Clases!$B$2:$B$501,$A9)) | C9: =IF($A9="","",SUMIFS(Clases!$C$2:$C$501,Clases!$B$2:$B$501,$A9)/60) | D9: =IF($A9="","",SUMIFS(Clases!$D$2:$D$501,Clases!$B$2:$B$501,$A9,Clases!$E$2:$E$501,"Sí")) | E9: =IF($A9="","",SUMIFS(Clases!$D$2:$D$501,Clases!$B$2:$B$501,$A9,Clases!$E$2:$E$501,"No"))
A10: =IF(Alumnos!A10="","",Alumnos!A10) | B10: =IF($A10="","",COUNTIFS(Clases!$B$2:$B$501,$A10)) | C10: =IF($A10="","",SUMIFS(Clases!$C$2:$C$501,Clases!$B$2:$B$501,$A10)/60) | D10: =IF($A10="","",SUMIFS(Clases!$D$2:$D$501,Clases!$B$2:$B$501,$A10,Clases!$E$2:$E$501,"Sí")) | E10: =IF($A10="","",SUMIFS(Clases!$D$2:$D$501,Clases!$B$2:$B$501,$A10,Clases!$E$2:$E$501,"No"))
A11: =IF(Alumnos!A11="","",Alumnos!A11) | B11: =IF($A11="","",COUNTIFS(Clases!$B$2:$B$501,$A11)) | C11: =IF($A11="","",SUMIFS(Clases!$C$2:$C$501,Clases!$B$2:$B$501,$A11)/60) | D11: =IF($A11="","",SUMIFS(Clases!$D$2:$D$501,Clases!$B$2:$B$501,$A11,Clases!$E$2:$E$501,"Sí")) | E11: =IF($A11="","",SUMIFS(Clases!$D$2:$D$501,Clases!$B$2:$B$501,$A11,Clases!$E$2:$E$501,"No"))
A12: =IF(Alumnos!A12="","",Alumnos!A12) | B12: =IF($A12="","",COUNTIFS(Clases!$B$2:$B$501,$A12)) | C12: =IF($A12="","",SUMIFS(Clases!$C$2:$C$501,Clases!$B$2:$B$501,$A12)/60) | D12: =IF($A12="","",SUMIFS(Clases!$D$2:$D$501,Clases!$B$2:$B$501,$A12,Clases!$E$2:$E$501,"Sí")) | E12: =IF($A12="","",SUMIFS(Clases!$D$2:$D$501,Clases!$B$2:$B$501,$A12,Clases!$E$2:$E$501,"No"))
A13: =IF(Alumnos!A13="","",Alumnos!A13) | B13: =IF($A13="","",COUNTIFS(Clases!$B$2:$B$501,$A13)) | C13: =IF($A13="","",SUMIFS(Clases!$C$2:$C$501,Clases!$B$2:$B$501,$A13)/60) | D13: =IF($A13="","",SUMIFS(Clases!$D$2:$D$501,Clases!$B$2:$B$501,$A13,Clases!$E$2:$E$501,"Sí")) | E13: =IF($A13="","",SUMIFS(Clases!$D$2:$D$501,Clases!$B$2:$B$501,$A13,Clases!$E$2:$E$501,"No"))
... A51: =IF(Alumnos!A51="","",Alumnos!A51) | B51: =IF($A51="","",COUNTIFS(Clases!$B$2:$B$501,$A51)) | C51: =IF($A51="","",SUMIFS(Clases!$C$2:$C$501,Clases!$B$2:$B$501,$A51)/60) | D51: =IF($A51="","",SUMIFS(Clases!$D$2:$D$501,Clases!$B$2:$B$501,$A51,Clases!$E$2:$E$501,"Sí")) | E51: =IF($A51="","",SUMIFS(Clases!$D$2:$D$501,Clases!$B$2:$B$501,$A51,Clases!$E$2:$E$501,"No"))
A53: TOTAL | B53: =SUM(B2:B51) | C53: =SUM(C2:C51) | D53: =SUM(D2:D51) | E53: =SUM(E2:E51)
